BEGIN:VCALENDAR
VERSION:2.0
PRODID:-//Hotel &amp; Gasthaus zur Henne - ECPv6.15.20//NONSGML v1.0//EN
CALSCALE:GREGORIAN
METHOD:PUBLISH
X-WR-CALNAME:Hotel &amp; Gasthaus zur Henne
X-ORIGINAL-URL:https://www.gasthaus-zur-henne.de
X-WR-CALDESC:Veranstaltungen für Hotel &amp; Gasthaus zur Henne
REFRESH-INTERVAL;VALUE=DURATION:PT1H
X-Robots-Tag:noindex
X-PUBLISHED-TTL:PT1H
BEGIN:VTIMEZONE
TZID:Europe/Berlin
BEGIN:DAYLIGHT
TZOFFSETFROM:+0100
TZOFFSETTO:+0200
TZNAME:CEST
DTSTART:20250330T010000
END:DAYLIGHT
BEGIN:STANDARD
TZOFFSETFROM:+0200
TZOFFSETTO:+0100
TZNAME:CET
DTSTART:20251026T010000
END:STANDARD
BEGIN:DAYLIGHT
TZOFFSETFROM:+0100
TZOFFSETTO:+0200
TZNAME:CEST
DTSTART:20260329T010000
END:DAYLIGHT
BEGIN:STANDARD
TZOFFSETFROM:+0200
TZOFFSETTO:+0100
TZNAME:CET
DTSTART:20261025T010000
END:STANDARD
BEGIN:DAYLIGHT
TZOFFSETFROM:+0100
TZOFFSETTO:+0200
TZNAME:CEST
DTSTART:20270328T010000
END:DAYLIGHT
BEGIN:STANDARD
TZOFFSETFROM:+0200
TZOFFSETTO:+0100
TZNAME:CET
DTSTART:20271031T010000
END:STANDARD
END:VTIMEZONE
BEGIN:VEVENT
DTSTART;TZID=Europe/Berlin:20261106T180000
DTEND;TZID=Europe/Berlin:20261106T220000
DTSTAMP:20260421T122138
CREATED:20251126T173129Z
LAST-MODIFIED:20251202T104048Z
UID:10000349-1793988000-1794002400@www.gasthaus-zur-henne.de
SUMMARY:Bonnie & Clyde
DESCRIPTION:Bonnie & Clyde\, eine der wohl bekanntesten Liebesdramen im Gangsterformat aus den 1930er Jahren. Weltwirtschaftskrise\, humorig dunkel. Ein mitreißender Roadtrip durch das zeitliche Trauma einer ganzen Nation. Steigen Sie ein und erleben Sie hautnah die packenden Geschichten hinter dem Mythos. Autobiografisch\, schusssicher bis zum Schluß. Dieser bedeutet für eine der großen Lieben des Lebens aber noch lange nicht das Ende. \nVerbunden mit einem köstlichen 4-Gänge Menü. \n\nBeginn:\n18.00Uhr \n\nPreis: \n95\,00€ p.P. inkl. Schauspiel und 4-Gang Menü \nAktionspreis für den 14.02. & 21.02..: 89\,00€ p.P. (gültig bis 24.12.) \nMöchten Sie vegetarisch speisen oder sind Sie gegen bestimmte Nahrungsmittel allergisch\, so teilen Sie uns das bitte bei der Kartenbestellung mit.
URL:https://www.gasthaus-zur-henne.de/event/bonnie-clyde/2026-11-06/
CATEGORIES:Theaterdinner
ATTACH;FMTTYPE=image/jpeg:https://www.gasthaus-zur-henne.de/wp-content/uploads/2025/11/BonnieundClyde.jpg
END:VEVENT
BEGIN:VEVENT
DTSTART;TZID=Europe/Berlin:20261107T180000
DTEND;TZID=Europe/Berlin:20261107T220000
DTSTAMP:20260421T122138
CREATED:20251126T173129Z
LAST-MODIFIED:20251202T104048Z
UID:10000350-1794074400-1794088800@www.gasthaus-zur-henne.de
SUMMARY:Bonnie & Clyde
DESCRIPTION:Bonnie & Clyde\, eine der wohl bekanntesten Liebesdramen im Gangsterformat aus den 1930er Jahren. Weltwirtschaftskrise\, humorig dunkel. Ein mitreißender Roadtrip durch das zeitliche Trauma einer ganzen Nation. Steigen Sie ein und erleben Sie hautnah die packenden Geschichten hinter dem Mythos. Autobiografisch\, schusssicher bis zum Schluß. Dieser bedeutet für eine der großen Lieben des Lebens aber noch lange nicht das Ende. \nVerbunden mit einem köstlichen 4-Gänge Menü. \n\nBeginn:\n18.00Uhr \n\nPreis: \n95\,00€ p.P. inkl. Schauspiel und 4-Gang Menü \nAktionspreis für den 14.02. & 21.02..: 89\,00€ p.P. (gültig bis 24.12.) \nMöchten Sie vegetarisch speisen oder sind Sie gegen bestimmte Nahrungsmittel allergisch\, so teilen Sie uns das bitte bei der Kartenbestellung mit.
URL:https://www.gasthaus-zur-henne.de/event/bonnie-clyde/2026-11-07/
CATEGORIES:Theaterdinner
ATTACH;FMTTYPE=image/jpeg:https://www.gasthaus-zur-henne.de/wp-content/uploads/2025/11/BonnieundClyde.jpg
END:VEVENT
END:VCALENDAR